BEGIN:VCALENDAR
VERSION:2.0
PRODID:-//ZContent.net//ZapCalLib 1.0//EN
CALSCALE:GREGORIAN
METHOD:PUBLISH
BEGIN:VEVENT
SUMMARY:Care statt Kapital? | Konzept und Perspektiven einer Care-Ökonomie
DTSTART:20211012T190000
DTEND:20211012T210000
UID:2021-12-02-04-01-22-0-@calendar.boell.de
DTSTAMP:20211202T030122
DESCRIPTION:▶ Online-Veranstaltung – Landesstiftung Hessen
END:VEVENT
END:VCALENDAR
