BEGIN:VCALENDAR
VERSION:2.0
PRODID:-//ZContent.net//ZapCalLib 1.0//EN
CALSCALE:GREGORIAN
METHOD:PUBLISH
BEGIN:VEVENT
SUMMARY:Film und Gespräch “Kabul, City in the Wind" | 
DTSTART:20211011T200000
DTEND:20211011T220000
UID:2021-12-02-04-00-59-0-@calendar.boell.de
DTSTAMP:20211202T030059
DESCRIPTION:▶ Siehe Veranstaltungsbeschreibung – Greifswald – Landess
 tiftung Mecklenburg-Vorpommern
END:VEVENT
END:VCALENDAR
