BEGIN:VCALENDAR
VERSION:2.0
PRODID:-//ZContent.net//ZapCalLib 1.0//EN
CALSCALE:GREGORIAN
METHOD:PUBLISH
BEGIN:VEVENT
SUMMARY:Erinnerungspolitischer Fachtag der sächsische Landesarbeitsgemeins
 chaft Auseinandersetzung mit dem Nationalsozialismus (sLAG) 2021 | Erinner
 n im Dialog?! Sächsische Erinnerungs- und Gedenkarbeit – Bilanz von 30 
 Jahren
DTSTART:20211013T100000
DTEND:20211013T220000
UID:2026-04-23-12-07-56-0-@calendar.boell.de
DTSTAMP:20260423T100756
DESCRIPTION:▶ Siehe Veranstaltungsbeschreibung – Landesstiftung Sachsen
  (Weiterdenken)
END:VEVENT
END:VCALENDAR
