BEGIN:VCALENDAR
VERSION:2.0
PRODID:-//ZContent.net//ZapCalLib 1.0//EN
CALSCALE:GREGORIAN
METHOD:PUBLISH
BEGIN:VEVENT
SUMMARY:Afghanistan nach dem NATO-Einsatz | Ein Land zwischen (imperialisti
 schen) Interventionen und Widerstand
DTSTART:20210923T190000
DTEND:20210923T210000
UID:2021-12-02-04-02-55-0-@calendar.boell.de
DTSTAMP:20211202T030255
DESCRIPTION:▶ Siehe Veranstaltungsbeschreibung – Landesstiftung Berlin 
 (Bildungswerk)
END:VEVENT
END:VCALENDAR
