BEGIN:VCALENDAR
VERSION:2.0
PRODID:-//ZContent.net//ZapCalLib 1.0//EN
CALSCALE:GREGORIAN
METHOD:PUBLISH
BEGIN:VEVENT
SUMMARY:Feminismus für Alle | Auftaktfeier Feministische Reihe Oberhausen
DTSTART:20210918T140000
DTEND:20210918T210000
UID:2026-04-25-12-27-35-0-@calendar.boell.de
DTSTAMP:20260425T102735
DESCRIPTION:▶ Siehe Veranstaltungsbeschreibung – Oberhausen – Landess
 tiftung Nordrhein-Westfalen
END:VEVENT
END:VCALENDAR
