BEGIN:VCALENDAR
VERSION:2.0
PRODID:-//ZContent.net//ZapCalLib 1.0//EN
CALSCALE:GREGORIAN
METHOD:PUBLISH
BEGIN:VEVENT
SUMMARY:Wahre Männlichkeit? Männlichkeiten und Männlichkeitsbilder in de
 r Neuen Rechten | #6 Politische Männlichkeit
DTSTART:20211027T160000
DTEND:20211027T180000
UID:2021-12-02-02-58-54-0-@calendar.boell.de
DTSTAMP:20211202T015854
DESCRIPTION:▶ Online-Veranstaltung – Gunda-Werner-Institut für Feminis
 mus und Geschlechterdemokratie
END:VEVENT
END:VCALENDAR
