BEGIN:VCALENDAR
VERSION:2.0
PRODID:-//ZContent.net//ZapCalLib 1.0//EN
CALSCALE:GREGORIAN
METHOD:PUBLISH
BEGIN:VEVENT
SUMMARY:Schulleitungstagung 2021 | Alles auf Anfang? Wie lernen und arbeite
 n wir in Zukunft erfolgreich?
DTSTART:20211109T183000
DTEND:20211110T170000
UID:2026-04-22-22-56-40-0-@calendar.boell.de
DTSTAMP:20260422T205640
DESCRIPTION:▶ Siehe Veranstaltungsbeschreibung – Hamburg – Heinrich-B
 öll-Stiftung - Bundesstiftung Berlin
END:VEVENT
END:VCALENDAR
