BEGIN:VCALENDAR
VERSION:2.0
PRODID:-//ZContent.net//ZapCalLib 1.0//EN
CALSCALE:GREGORIAN
METHOD:PUBLISH
BEGIN:VEVENT
SUMMARY:Miteinander reden -  Gewaltfreie Kommunikation als politische Strat
 egie
DTSTART:20211112T180000
DTEND:20211113T170000
UID:2026-04-22-23-08-32-0-@calendar.boell.de
DTSTAMP:20260422T210832
DESCRIPTION:▶ Siehe Veranstaltungsbeschreibung – Berlin – Landesstift
 ung Berlin (Bildungswerk)
END:VEVENT
END:VCALENDAR
