BEGIN:VCALENDAR
VERSION:2.0
PRODID:-//ZContent.net//ZapCalLib 1.0//EN
CALSCALE:GREGORIAN
METHOD:PUBLISH
BEGIN:VEVENT
SUMMARY:Böll-Montagskino „Dear Future Children“
DTSTART:20211122T190000
DTEND:20211122T210000
UID:2026-04-23-06-44-22-0-@calendar.boell.de
DTSTAMP:20260423T044422
DESCRIPTION:▶ Siehe Veranstaltungsbeschreibung – Rostock – Landesstif
 tung Mecklenburg-Vorpommern
END:VEVENT
END:VCALENDAR
