BEGIN:VCALENDAR
VERSION:2.0
PRODID:-//ZContent.net//ZapCalLib 1.0//EN
CALSCALE:GREGORIAN
METHOD:PUBLISH
BEGIN:VEVENT
SUMMARY:Entwürfe unserer Körper | Live-Zeichnung und Gespräch // Veranst
 altungsreihe "Live dabei barrierefrei!"
DTSTART:20210921T170000
DTEND:20210921T183000
UID:2026-04-23-02-07-09-0-@calendar.boell.de
DTSTAMP:20260423T000709
DESCRIPTION:▶ Online-Veranstaltung – Landesstiftung Sachsen (Weiterdenk
 en)
END:VEVENT
END:VCALENDAR
