BEGIN:VCALENDAR
VERSION:2.0
PRODID:-//ZContent.net//ZapCalLib 1.0//EN
CALSCALE:GREGORIAN
METHOD:PUBLISH
BEGIN:VEVENT
SUMMARY:Online-Schulung: Einführung Conceptboard für GreenCampus Trainer/
 innen
DTSTART:20210924T140000
DTEND:20210924T160000
UID:2026-04-23-19-50-40-0-@calendar.boell.de
DTSTAMP:20260423T175040
DESCRIPTION:▶ Online-Veranstaltung – GreenCampus
END:VEVENT
END:VCALENDAR
