BEGIN:VCALENDAR
VERSION:2.0
PRODID:-//ZContent.net//ZapCalLib 1.0//EN
CALSCALE:GREGORIAN
METHOD:PUBLISH
BEGIN:VEVENT
SUMMARY:Ökologisch, ländlich, völkisch - was tun gegen rechte Vereinnahm
 ung? | Vortrag und Diskussion im Rahmen der Political Art Days
DTSTART:20210912T120000
DTEND:20210912T140000
UID:2026-04-23-23-28-34-0-@calendar.boell.de
DTSTAMP:20260423T212834
DESCRIPTION:▶ Siehe Veranstaltungsbeschreibung – Dresden – Landesstif
 tung Sachsen (Weiterdenken)
END:VEVENT
END:VCALENDAR
