BEGIN:VCALENDAR
VERSION:2.0
PRODID:-//ZContent.net//ZapCalLib 1.0//EN
CALSCALE:GREGORIAN
METHOD:PUBLISH
BEGIN:VEVENT
SUMMARY:Ausstellungseröffnung: "Schwarz ist der Ozean"  | Eine Ausstellung
  von Serge Palasie mit Bildern des Künstlers William Adjété Wilson aus 
 dessen Werk „L´Ocean Noir"
DTSTART:20210906T190000
DTEND:20210906T203000
UID:2021-12-02-04-32-05-0-@calendar.boell.de
DTSTAMP:20211202T033205
DESCRIPTION:▶ Siehe Veranstaltungsbeschreibung – Halle (Saale) – Land
 esstiftung Sachsen-Anhalt
END:VEVENT
END:VCALENDAR
