BEGIN:VCALENDAR
VERSION:2.0
PRODID:-//ZContent.net//ZapCalLib 1.0//EN
CALSCALE:GREGORIAN
METHOD:PUBLISH
BEGIN:VEVENT
SUMMARY:Weltreise: zu Fair-Trade-Produzenten, Naturwundern, Heiligtümern  
 | Multivisionsshow in Bayreuth von Jutta Ulmer & Michael Wolfsteiner
DTSTART:20211106T190000
DTEND:20211106T210000
UID:2026-04-22-22-56-38-0-@calendar.boell.de
DTSTAMP:20260422T205638
DESCRIPTION:▶ Siehe Veranstaltungsbeschreibung – Petra-Kelly-Stiftung
END:VEVENT
END:VCALENDAR
