BEGIN:VCALENDAR
VERSION:2.0
PRODID:-//ZContent.net//ZapCalLib 1.0//EN
CALSCALE:GREGORIAN
METHOD:PUBLISH
BEGIN:VEVENT
SUMMARY:Online-Schulung Dienst- und Werkverträge in der hbs
DTSTART:20210929T100000
DTEND:20210929T123000
UID:2026-04-23-06-10-20-0-@calendar.boell.de
DTSTAMP:20260423T041020
DESCRIPTION:▶ Online-Veranstaltung – Berlin – GreenCampus
END:VEVENT
END:VCALENDAR
