BEGIN:VCALENDAR
VERSION:2.0
PRODID:-//ZContent.net//ZapCalLib 1.0//EN
CALSCALE:GREGORIAN
METHOD:PUBLISH
BEGIN:VEVENT
SUMMARY:Streit ums Politische: "Orte der Produktion von Ruhm" | Heinz Bude 
 im Gespräch mit Barbara Stollberg-Rilinger
DTSTART:20211122T193000
DTEND:20211122T210000
UID:2021-12-02-03-50-53-0-@calendar.boell.de
DTSTAMP:20211202T025053
DESCRIPTION:▶ Siehe Veranstaltungsbeschreibung – Berlin – Externe Ver
 anstaltung
END:VEVENT
END:VCALENDAR
