BEGIN:VCALENDAR
VERSION:2.0
PRODID:-//ZContent.net//ZapCalLib 1.0//EN
CALSCALE:GREGORIAN
METHOD:PUBLISH
BEGIN:VEVENT
SUMMARY:Streit ums Politische: "Sehnsucht nach Ruhm" | Heinz Bude im GesprÃ
 ¤ch mit Wilfried Nippel
DTSTART:20211018T193000
DTEND:20211018T210000
UID:2026-04-23-15-46-09-0-@calendar.boell.de
DTSTAMP:20260423T134609
DESCRIPTION:â–¶ Siehe Veranstaltungsbeschreibung â€“ Berlin â€“ Externe Ver
 anstaltung
END:VEVENT
END:VCALENDAR
