BEGIN:VCALENDAR
VERSION:2.0
PRODID:-//ZContent.net//ZapCalLib 1.0//EN
CALSCALE:GREGORIAN
METHOD:PUBLISH
BEGIN:VEVENT
SUMMARY:Fachtagung: Bildung braucht Empowerment | Diskriminierungs- und ras
 sismuskritische Bildung in schulischen und außerschulischen Kontexten
DTSTART:20210929T100000
DTEND:20210929T160000
UID:2026-04-23-19-50-09-0-@calendar.boell.de
DTSTAMP:20260423T175009
DESCRIPTION:▶ Siehe Veranstaltungsbeschreibung – Landesstiftung Berlin 
 (Bildungswerk)
END:VEVENT
END:VCALENDAR
