BEGIN:VCALENDAR
VERSION:2.0
PRODID:-//ZContent.net//ZapCalLib 1.0//EN
CALSCALE:GREGORIAN
METHOD:PUBLISH
BEGIN:VEVENT
SUMMARY:Lesung & Gespräch "Die Verlassenen" | mit Matthias Jügler 
DTSTART:20211014T190000
DTEND:20211014T203000
UID:2026-04-23-08-38-53-0-@calendar.boell.de
DTSTAMP:20260423T063853
DESCRIPTION:▶ Siehe Veranstaltungsbeschreibung – Schwerin – Landessti
 ftung Mecklenburg-Vorpommern
END:VEVENT
END:VCALENDAR
