BEGIN:VCALENDAR
VERSION:2.0
PRODID:-//ZContent.net//ZapCalLib 1.0//EN
CALSCALE:GREGORIAN
METHOD:PUBLISH
BEGIN:VEVENT
SUMMARY:DIE UNBEUGSAMEN | Special Preview des Films mit anschließender Pod
 iumsdiskussion
DTSTART:20210824T183000
DTEND:20210824T220000
UID:2026-04-25-03-30-27-0-@calendar.boell.de
DTSTAMP:20260425T013027
DESCRIPTION:▶ Siehe Veranstaltungsbeschreibung – 
END:VEVENT
END:VCALENDAR
