BEGIN:VCALENDAR
VERSION:2.0
PRODID:-//ZContent.net//ZapCalLib 1.0//EN
CALSCALE:GREGORIAN
METHOD:PUBLISH
BEGIN:VEVENT
SUMMARY:Schule im Brennglas der Pandemie  |  Welche "Normalität" wollen wi
 r? 
DTSTART:20210908T200000
DTEND:20210908T204500
UID:2026-04-23-01-50-44-0-@calendar.boell.de
DTSTAMP:20260422T235044
DESCRIPTION:▶ Siehe Veranstaltungsbeschreibung – Dresden – Landesstif
 tung Sachsen (Weiterdenken)
END:VEVENT
END:VCALENDAR
