BEGIN:VCALENDAR
VERSION:2.0
PRODID:-//ZContent.net//ZapCalLib 1.0//EN
CALSCALE:GREGORIAN
METHOD:PUBLISH
BEGIN:VEVENT
SUMMARY:Kriminelles Finale | Der Stuttgarter Krimipreis 2021
DTSTART:20211001T190000
DTEND:20211001T220000
UID:2026-04-22-22-59-41-0-@calendar.boell.de
DTSTAMP:20260422T205941
DESCRIPTION:▶ Siehe Veranstaltungsbeschreibung – Stuttgart – Heinrich
  Böll Stiftung Baden-Württemberg
END:VEVENT
END:VCALENDAR
