BEGIN:VCALENDAR
VERSION:2.0
PRODID:-//ZContent.net//ZapCalLib 1.0//EN
CALSCALE:GREGORIAN
METHOD:PUBLISH
BEGIN:VEVENT
SUMMARY:Queer Feminist Perspectives On Political Homophobia And Anti-Femini
 sm In The Middle East And Europe | International Digital Conference
DTSTART:20210924T144500
DTEND:20210925T194500
UID:2026-04-23-04-50-08-0-@calendar.boell.de
DTSTAMP:20260423T025008
DESCRIPTION:▶ Online-Veranstaltung – Heinrich-Böll-Stiftung - Bundesst
 iftung Berlin
END:VEVENT
BEGIN:VEVENT
SUMMARY:Queer Feminist Perspectives On Political Homophobia And Anti-Femini
 sm In The Middle East And Europe | International Digital Conference
DTSTART:20210924T144500
DTEND:20210924T173000
UID:2026-04-23-02-50-08-1-@calendar.boell.de
DTSTAMP:20260423T025008
DESCRIPTION:▶ Online-Veranstaltung – Heinrich-Böll-Stiftung - Bundesst
 iftung Berlin
END:VEVENT
BEGIN:VEVENT
SUMMARY:Queer Feminist Perspectives On Political Homophobia And Anti-Femini
 sm In The Middle East And Europe | International Digital Conference
DTSTART:20210925T140000
DTEND:20210925T194500
UID:2026-04-23-02-50-08-2-@calendar.boell.de
DTSTAMP:20260423T025008
DESCRIPTION:▶ Online-Veranstaltung – Heinrich-Böll-Stiftung - Bundesst
 iftung Berlin
END:VEVENT
END:VCALENDAR
