BEGIN:VCALENDAR
VERSION:2.0
PRODID:-//ZContent.net//ZapCalLib 1.0//EN
CALSCALE:GREGORIAN
METHOD:PUBLISH
BEGIN:VEVENT
SUMMARY:Aktualität des Antisemitismus in Ostsachsen | Auftaktveranstaltung
  des Bündnis gegen Antisemitismus in Dresden und Ostsachsen
DTSTART:20210905T140009
DTEND:20210905T160009
UID:2026-04-23-17-56-22-0-@calendar.boell.de
DTSTAMP:20260423T155622
DESCRIPTION:▶ Siehe Veranstaltungsbeschreibung – Dresden – Landesstif
 tung Sachsen (Weiterdenken)
END:VEVENT
END:VCALENDAR
