BEGIN:VCALENDAR
VERSION:2.0
PRODID:-//ZContent.net//ZapCalLib 1.0//EN
CALSCALE:GREGORIAN
METHOD:PUBLISH
BEGIN:VEVENT
SUMMARY:Asylinitiativenkonferenz 2021 | #Vernetzen #Organisieren #Handeln
DTSTART:20211105T190000
DTEND:20211106T164500
UID:2026-04-23-20-25-32-0-@calendar.boell.de
DTSTAMP:20260423T182532
DESCRIPTION:▶ Online-Veranstaltung – Landesstiftung Sachsen (Weiterdenk
 en)
END:VEVENT
END:VCALENDAR
