BEGIN:VCALENDAR
VERSION:2.0
PRODID:-//ZContent.net//ZapCalLib 1.0//EN
CALSCALE:GREGORIAN
METHOD:PUBLISH
BEGIN:VEVENT
SUMMARY:Stadtrundgang | Widerstand und Verfolgung in Darmstadt
DTSTART:20210912T160000
DTEND:20210912T180000
UID:2026-04-24-08-45-45-0-@calendar.boell.de
DTSTAMP:20260424T064545
DESCRIPTION:▶ Siehe Veranstaltungsbeschreibung – 
END:VEVENT
END:VCALENDAR
