BEGIN:VCALENDAR
VERSION:2.0
PRODID:-//ZContent.net//ZapCalLib 1.0//EN
CALSCALE:GREGORIAN
METHOD:PUBLISH
BEGIN:VEVENT
SUMMARY:Stadtspaziergang | Verkehr im Wandel
DTSTART:20210909T180000
DTEND:20210909T200000
UID:2026-04-23-15-26-57-0-@calendar.boell.de
DTSTAMP:20260423T132657
DESCRIPTION:▶ Siehe Veranstaltungsbeschreibung – 
END:VEVENT
END:VCALENDAR
