BEGIN:VCALENDAR
VERSION:2.0
PRODID:-//ZContent.net//ZapCalLib 1.0//EN
CALSCALE:GREGORIAN
METHOD:PUBLISH
BEGIN:VEVENT
SUMMARY:Aufbruch oder schnelles Ende? Neue Regierung und alte Konflikte in 
 Israel
DTSTART:20210930T190000
DTEND:20210930T203000
UID:2026-04-24-16-36-46-0-@calendar.boell.de
DTSTAMP:20260424T143646
DESCRIPTION:▶ Siehe Veranstaltungsbeschreibung – München – Petra-Kel
 ly-Stiftung
END:VEVENT
END:VCALENDAR
