BEGIN:VCALENDAR
VERSION:2.0
PRODID:-//ZContent.net//ZapCalLib 1.0//EN
CALSCALE:GREGORIAN
METHOD:PUBLISH
BEGIN:VEVENT
SUMMARY:Je suis Karl | Filmvorführung mit Gespräch in Starnberg im Rahmen
  des Fünf Seen Filmfestivals 2021
DTSTART:20210823T203000
DTEND:20210823T203000
UID:2026-04-20-01-06-22-0-@calendar.boell.de
DTSTAMP:20260419T230622
DESCRIPTION:▶ Siehe Veranstaltungsbeschreibung – Petra-Kelly-Stiftung
END:VEVENT
END:VCALENDAR
