BEGIN:VCALENDAR
VERSION:2.0
PRODID:-//ZContent.net//ZapCalLib 1.0//EN
CALSCALE:GREGORIAN
METHOD:PUBLISH
BEGIN:VEVENT
SUMMARY:Stadtspaziergang: Auf der Spur der Menschenrechte über die Rote In
 sel
DTSTART:20210926T150000
DTEND:20210926T171500
UID:2026-04-23-20-26-04-0-@calendar.boell.de
DTSTAMP:20260423T182604
DESCRIPTION:▶ Siehe Veranstaltungsbeschreibung – Landesstiftung Berlin 
 (Bildungswerk)
END:VEVENT
END:VCALENDAR
