BEGIN:VCALENDAR
VERSION:2.0
PRODID:-//ZContent.net//ZapCalLib 1.0//EN
CALSCALE:GREGORIAN
METHOD:PUBLISH
BEGIN:VEVENT
SUMMARY:Stadtspaziergang: Wilfrid Israel | Kaufhausdirektor und Sozialist, 
 Lebensretter und Pazifist
DTSTART:20210829T150000
DTEND:20210829T170000
UID:2026-04-25-01-00-24-0-@calendar.boell.de
DTSTAMP:20260424T230024
DESCRIPTION:▶ Siehe Veranstaltungsbeschreibung – Landesstiftung Berlin 
 (Bildungswerk)
END:VEVENT
END:VCALENDAR
