BEGIN:VCALENDAR
VERSION:2.0
PRODID:-//ZContent.net//ZapCalLib 1.0//EN
CALSCALE:GREGORIAN
METHOD:PUBLISH
BEGIN:VEVENT
SUMMARY:Joe Biden und die Rückkehr Amerikas
DTSTART:20211116T190000
DTEND:20211116T203000
UID:2026-04-23-08-39-02-0-@calendar.boell.de
DTSTAMP:20260423T063902
DESCRIPTION:▶ Siehe Veranstaltungsbeschreibung – München – Petra-Kel
 ly-Stiftung
END:VEVENT
END:VCALENDAR
