BEGIN:VCALENDAR
VERSION:2.0
PRODID:-//ZContent.net//ZapCalLib 1.0//EN
CALSCALE:GREGORIAN
METHOD:PUBLISH
BEGIN:VEVENT
SUMMARY:DIE ANDEREN LEBEN. GENERATIONENGESPRÄCHE OST | Buchvorstellung und
  Gespräch mit Sabine Michel und Dörte Grimm
DTSTART:20210907T190000
DTEND:20210907T203000
UID:2026-04-24-02-48-29-0-@calendar.boell.de
DTSTAMP:20260424T004829
DESCRIPTION:▶ Siehe Veranstaltungsbeschreibung – Landesstiftung Thürin
 gen
END:VEVENT
END:VCALENDAR
