BEGIN:VCALENDAR
VERSION:2.0
PRODID:-//ZContent.net//ZapCalLib 1.0//EN
CALSCALE:GREGORIAN
METHOD:PUBLISH
BEGIN:VEVENT
SUMMARY:Doppelklick | Von Christophe Nassif und Zusammen auf Abstand | Von 
 Matthias Mischkolin und Tim Kroner | 2 Filme aus dem Kurzfilmprojekt Neue 
 Normalität. Leben in der Pandemie.
DTSTART:20210915T193000
DTEND:20210915T210000
UID:2026-04-22-21-33-49-0-@calendar.boell.de
DTSTAMP:20260422T193349
DESCRIPTION:▶ Siehe Veranstaltungsbeschreibung – Stuttgart – Heinrich
  Böll Stiftung Baden-Württemberg
END:VEVENT
END:VCALENDAR
