BEGIN:VCALENDAR
VERSION:2.0
PRODID:-//ZContent.net//ZapCalLib 1.0//EN
CALSCALE:GREGORIAN
METHOD:PUBLISH
BEGIN:VEVENT
SUMMARY:MULTITUDE Festival | Festival für feministische und intersektional
 e Solidarität
DTSTART:20210916T111944
DTEND:20210919T121944
UID:2026-04-23-00-48-35-0-@calendar.boell.de
DTSTAMP:20260422T224835
DESCRIPTION:▶ Siehe Veranstaltungsbeschreibung – Hannover – Stiftung 
 Leben & Umwelt / Heinrich-Böll-Stiftung Niedersachsen
END:VEVENT
END:VCALENDAR
