BEGIN:VCALENDAR
VERSION:2.0
PRODID:-//ZContent.net//ZapCalLib 1.0//EN
CALSCALE:GREGORIAN
METHOD:PUBLISH
BEGIN:VEVENT
SUMMARY:Butenland | Gibt es ein anderes Miteinander von Tier und Mensch?
DTSTART:20210818T190000
DTEND:20210818T210000
UID:2026-04-23-08-40-09-0-@calendar.boell.de
DTSTAMP:20260423T064009
DESCRIPTION:▶ Siehe Veranstaltungsbeschreibung – Halle (Saale) – Land
 esstiftung Sachsen-Anhalt
END:VEVENT
END:VCALENDAR
