BEGIN:VCALENDAR
VERSION:2.0
PRODID:-//ZContent.net//ZapCalLib 1.0//EN
CALSCALE:GREGORIAN
METHOD:PUBLISH
BEGIN:VEVENT
SUMMARY:Open-Air-Kino: „Wem gehört mein Dorf?“
DTSTART:20210813T200000
DTEND:20210813T213000
UID:2026-04-24-20-37-38-0-@calendar.boell.de
DTSTAMP:20260424T183738
DESCRIPTION:▶ Siehe Veranstaltungsbeschreibung – Landesstiftung Mecklen
 burg-Vorpommern
END:VEVENT
END:VCALENDAR
