BEGIN:VCALENDAR
VERSION:2.0
PRODID:-//ZContent.net//ZapCalLib 1.0//EN
CALSCALE:GREGORIAN
METHOD:PUBLISH
BEGIN:VEVENT
SUMMARY:Unter der Paule | Ein Film von Uwe Kassai | Ein Film aus dem Kurzfi
 lmprojekt Neue Normalität. Leben in der Pandemie.
DTSTART:20210929T193000
DTEND:20210929T210000
UID:2026-04-24-05-36-50-0-@calendar.boell.de
DTSTAMP:20260424T033650
DESCRIPTION:▶ Siehe Veranstaltungsbeschreibung – Stuttgart – Heinrich
  Böll Stiftung Baden-Württemberg
END:VEVENT
END:VCALENDAR
