BEGIN:VCALENDAR
VERSION:2.0
PRODID:-//ZContent.net//ZapCalLib 1.0//EN
CALSCALE:GREGORIAN
METHOD:PUBLISH
BEGIN:VEVENT
SUMMARY:Russland - Opposition nach Nawalnyj | 
DTSTART:20210909T190000
DTEND:20210909T211500
UID:2021-12-02-05-37-33-0-@calendar.boell.de
DTSTAMP:20211202T043733
DESCRIPTION:▶ Siehe Veranstaltungsbeschreibung – Landesstiftung Berlin 
 (Bildungswerk)
END:VEVENT
END:VCALENDAR
