BEGIN:VCALENDAR
VERSION:2.0
PRODID:-//ZContent.net//ZapCalLib 1.0//EN
CALSCALE:GREGORIAN
METHOD:PUBLISH
BEGIN:VEVENT
SUMMARY:"Widerstandsmomente" | Filmscreening & Diskussion zu weiblichem Wid
 erstand damals & heute
DTSTART:20210826T193000
DTEND:20210826T233000
UID:2026-04-23-06-00-35-0-@calendar.boell.de
DTSTAMP:20260423T040035
DESCRIPTION:▶ Siehe Veranstaltungsbeschreibung – Landesstiftung Berlin 
 (Bildungswerk)
END:VEVENT
END:VCALENDAR
