BEGIN:VCALENDAR
VERSION:2.0
PRODID:-//ZContent.net//ZapCalLib 1.0//EN
CALSCALE:GREGORIAN
METHOD:PUBLISH
BEGIN:VEVENT
SUMMARY:Der wissenschaftliche Austausch mit ...
DTSTART:20210714T180000
DTEND:20210714T193000
UID:2026-04-23-08-38-12-0-@calendar.boell.de
DTSTAMP:20260423T063812
DESCRIPTION:▶ Siehe Veranstaltungsbeschreibung – Landesstiftung Nordrhe
 in-Westfalen
END:VEVENT
END:VCALENDAR
