BEGIN:VCALENDAR
VERSION:2.0
PRODID:-//ZContent.net//ZapCalLib 1.0//EN
CALSCALE:GREGORIAN
METHOD:PUBLISH
BEGIN:VEVENT
SUMMARY:Politische Radtour zur "Gedenklandschaft Stalag 326"
DTSTART:20210731T121500
DTEND:20210731T171500
UID:2026-04-24-00-35-08-0-@calendar.boell.de
DTSTAMP:20260423T223508
DESCRIPTION:▶ Siehe Veranstaltungsbeschreibung – Landesstiftung Nordrhe
 in-Westfalen
END:VEVENT
END:VCALENDAR
