BEGIN:VCALENDAR
VERSION:2.0
PRODID:-//ZContent.net//ZapCalLib 1.0//EN
CALSCALE:GREGORIAN
METHOD:PUBLISH
BEGIN:VEVENT
SUMMARY:Spielvorstellung: “GeVi – Geschlechtliche Vielfalt neu erleben!
 ” | Workshop für Multiplikator*innen (Magdeburg)
DTSTART:20210923T100000
DTEND:20210923T130000
UID:2021-12-02-04-14-43-0-@calendar.boell.de
DTSTAMP:20211202T031443
DESCRIPTION:▶ Siehe Veranstaltungsbeschreibung – Magdeburg – Landesst
 iftung Sachsen-Anhalt
END:VEVENT
END:VCALENDAR
