BEGIN:VCALENDAR
VERSION:2.0
PRODID:-//ZContent.net//ZapCalLib 1.0//EN
CALSCALE:GREGORIAN
METHOD:PUBLISH
BEGIN:VEVENT
SUMMARY:Uferfrauen - Filmtour Thüringen - Neudietendorf
DTSTART:20210707T190000
DTEND:20210707T220000
UID:2026-04-24-21-18-41-0-@calendar.boell.de
DTSTAMP:20260424T191841
DESCRIPTION:▶ Siehe Veranstaltungsbeschreibung – 
END:VEVENT
END:VCALENDAR
