BEGIN:VCALENDAR
VERSION:2.0
PRODID:-//ZContent.net//ZapCalLib 1.0//EN
CALSCALE:GREGORIAN
METHOD:PUBLISH
BEGIN:VEVENT
SUMMARY:Uferfrauen - Filmtour Thüringen - Schleiz
DTSTART:20210706T180000
DTEND:20210706T220000
UID:2026-04-23-13-51-01-0-@calendar.boell.de
DTSTAMP:20260423T115101
DESCRIPTION:▶ Siehe Veranstaltungsbeschreibung – 
END:VEVENT
END:VCALENDAR
