BEGIN:VCALENDAR
VERSION:2.0
PRODID:-//ZContent.net//ZapCalLib 1.0//EN
CALSCALE:GREGORIAN
METHOD:PUBLISH
BEGIN:VEVENT
SUMMARY:Antimuslimischem Rassismus entgegenwirken! | Stadtspaziergang
DTSTART:20210704T150000
DTEND:20210704T170000
UID:2026-04-24-15-00-37-0-@calendar.boell.de
DTSTAMP:20260424T130037
DESCRIPTION:▶ Siehe Veranstaltungsbeschreibung – Landesstiftung Berlin 
 (Bildungswerk)
END:VEVENT
END:VCALENDAR
