BEGIN:VCALENDAR
VERSION:2.0
PRODID:-//ZContent.net//ZapCalLib 1.0//EN
CALSCALE:GREGORIAN
METHOD:PUBLISH
BEGIN:VEVENT
SUMMARY:Wie umgehen mit Belarus? | 
DTSTART:20210628T190000
DTEND:20210628T203000
UID:2021-12-02-05-38-18-0-@calendar.boell.de
DTSTAMP:20211202T043818
DESCRIPTION:▶ Siehe Veranstaltungsbeschreibung – 
END:VEVENT
END:VCALENDAR
