BEGIN:VCALENDAR
VERSION:2.0
PRODID:-//ZContent.net//ZapCalLib 1.0//EN
CALSCALE:GREGORIAN
METHOD:PUBLISH
BEGIN:VEVENT
SUMMARY:30 Stunden Runder Tisch | Happening zur Frauenbewegung 89/90 auf de
 m Marktplatz in Leipzig
DTSTART:20210625T180000
DTEND:20210626T230000
UID:2026-04-22-06-26-20-0-@calendar.boell.de
DTSTAMP:20260422T042620
DESCRIPTION:▶ Siehe Veranstaltungsbeschreibung – Leipzig – Landesstif
 tung Sachsen (Weiterdenken)
END:VEVENT
END:VCALENDAR
