BEGIN:VCALENDAR
VERSION:2.0
PRODID:-//ZContent.net//ZapCalLib 1.0//EN
CALSCALE:GREGORIAN
METHOD:PUBLISH
BEGIN:VEVENT
SUMMARY:Seenotrettung – ein Menschenrecht  | Vortrag mit Diskussion
DTSTART:20211029T193000
DTEND:20211029T210000
UID:2026-04-23-19-50-12-0-@calendar.boell.de
DTSTAMP:20260423T175012
DESCRIPTION:▶ Siehe Veranstaltungsbeschreibung – Lindau – Petra-Kelly
 -Stiftung
END:VEVENT
END:VCALENDAR
