BEGIN:VCALENDAR
VERSION:2.0
PRODID:-//ZContent.net//ZapCalLib 1.0//EN
CALSCALE:GREGORIAN
METHOD:PUBLISH
BEGIN:VEVENT
SUMMARY:Tour: Naturliebe und Menschenhass | Veranstaltungsreihe zu Völkisc
 hen Siedler*innen in Thüringen
DTSTART:20210707T190000
DTEND:20210707T203000
UID:2026-04-22-06-26-49-0-@calendar.boell.de
DTSTAMP:20260422T042649
DESCRIPTION:▶ Siehe Veranstaltungsbeschreibung – Landesstiftung Thürin
 gen
END:VEVENT
END:VCALENDAR
